BEGIN:VCALENDAR
VERSION:2.0
PRODID:icalendar-ruby
CALSCALE:GREGORIAN
METHOD:PUBLISH
BEGIN:VEVENT
DTSTAMP:20260424T122820Z
UID:1-415599@mcicharlotte.org
DTSTART:20260906T170000Z
DTEND:20261004T170000Z
CLASS:PUBLIC
CREATED:20260423T202338
DESCRIPTION:¿No sería fantástico si supiéramos afrontar todo lo que la 
 vida nos tira? \nBueno\, nunca sabremos todas las respuestas\, ¡pero hay 
 alguien que sí! Dios sabe todas las cosas \ny quiere guiarnos por el cami
 no correcto. El evento más importante en la vida de cualquier persona \ne
 s tener un encuentro con el Señor. Dios es un Dios de segundas oportunida
 des\, y Él no mira tu pasado\,\nquiere tu presente y tu futuro. El Señor
  nos ofrece a cada uno de nosotros un nuevo comienzo.\nEl Encuentro se tra
 ta de comenzar una nueva vida en Dios. Llega un momento en la vida de cada
  persona\, \nun momento decisivo\, en el que Dios nos llama a encontrarnos
  con Él. El Encuentro es una \noportunidad para tener una experiencia rea
 l y personal con el Señor\, porque no basta simplemente\ncon saber de Dio
 s\, hay que conocerlo realmente.\n\n                         
                               ***\n\nWouldn’t it be great
  if we knew how to deal with everything life throws our way? Well\, we wil
 l never know all of the answers\, but there is someone who does! God knows
  all things\, and He wants to guide us down the right path. The single mos
 t important event in any person’s life is having an encounter with the L
 ord. God is a God of second chances\, and He does not look at your past\, 
 He wants your present and your future. The Lord offers each and every one 
 of us a new beginning. The Encounter is about starting a new life in God. 
 There comes a time in every person’s life\, a defining moment\, when God
  calls us to meet with Him. The Encounter is an opportunity to have a real
  and personal experience with the Lord\, because it is not enough to simpl
 y know about God\, we have to actually know Him.
LAST-MODIFIED:20260423T202338
LOCATION:4301 Gibbon Rd. Charlotte\, NC. 28269
SUMMARY:Life Class 
URL;VALUE=URI:https://www.mcicharlotte.org/events/life-class/2026-09-06
ATTACH;FILENAME=priscilla-du-preez-234138-unsplash.jpg;FMTTYPE=image/jpeg:h
 ttps://dq5pwpg1q8ru0.cloudfront.net/2025/10/28/01/43/46/f8388ce1-e465-48d5
 -a4a7-557d07ba5c1e/priscilla-du-preez-234138-unsplash.jpg
END:VEVENT
END:VCALENDAR
