BEGIN:VCALENDAR
VERSION:2.0
PRODID:icalendar-ruby
CALSCALE:GREGORIAN
METHOD:PUBLISH
BEGIN:VEVENT
DTSTAMP:20260424T105140Z
UID:5-415858@mcicharlotte.org
DTSTART:20260920T170000Z
DTEND:20260920T180000Z
CLASS:PUBLIC
CREATED:20260423T202338
DESCRIPTION:Sunday Worship
LAST-MODIFIED:20260423T202338
LOCATION:
SUMMARY:Sunday Worship
URL;VALUE=URI:https://www.mcicharlotte.org/events/sunday-worship/2026-09-20
END:VEVENT
END:VCALENDAR
