BEGIN:VCALENDAR
VERSION:2.0
PRODID:icalendar-ruby
CALSCALE:GREGORIAN
METHOD:PUBLISH
BEGIN:VEVENT
DTSTAMP:20260424T170127Z
UID:5-416450@mcicharlotte.org
DTSTART:20261018T170000Z
DTEND:20261018T180000Z
CLASS:PUBLIC
CREATED:20260424T084417
DESCRIPTION:Sunday Worship
LAST-MODIFIED:20260424T084417
LOCATION:
SUMMARY:Sunday Worship
URL;VALUE=URI:https://www.mcicharlotte.org/events/sunday-worship/2026-10-18
END:VEVENT
END:VCALENDAR
